BEGIN:VCALENDAR
VERSION:2.0
CALSCALE:GREGORIAN
PRODID:adamgibbons/ics
METHOD:PUBLISH
X-PUBLISHED-TTL:PT1H
BEGIN:VEVENT
UID:2667@events.ludd.ltu.se
SUMMARY:Lunch-talkshow med Anders Berg
DTSTAMP:20260424T104804Z
DTSTART:20260423T120000Z
DTEND:20260423T130000Z
DESCRIPTION:Välkommen på lunchtalkshow med Anders Berg. I sann I-hörnan and
	a kommer vi kunna\ndjupdyka i Anders karriär och karriärsval. Han tog exam
	en 1997 och har efter\nmånga erfarenheter\, många olika intressanta roller
	 och styrelseuppdrag\, nu valt\natt doktorera. Hoppas ni är lika taggade s
	om vi.\n\nGratis lunch till de med matbiljett\, begränsat antal matbiljett
	er finns så först\ntill kvarn. Man är välkommen även om man inte har bilje
	tt men kan då inte\nutlovas någon mat.\n\n\nHITRACT EVENT [https://hitract
	.se/hitevent/15745]\n\nThis event was scraped automatically from Hitract. 
	Want to manage your own\nevents? Contact us [adm@ludd.ltu.se]
URL:https://events.ludd.ltu.se/event/lunch-talkshow-med-anders-berg
LOCATION:A117/LKAB - Universitetsvägen 1
STATUS:CONFIRMED
CATEGORIES:indek,🫗 alcoholfree
X-ALT-DESC;FMTTYPE=text/html:<p>Välkommen på lunchtalkshow med Anders Berg.
	 I sann I-hörnan anda kommer vi kunna djupdyka i Anders karriär och karriä
	rsval. Han tog examen 1997 och har efter många erfarenheter, många olika i
	ntressanta roller och styrelseuppdrag, nu valt att doktorera. Hoppas ni är
	 lika taggade som vi.</p><br><p>Gratis lunch till de med matbiljett, begrä
	nsat antal matbiljetter finns så först till kvarn. Man är välkommen även o
	m man inte har biljett men kan då inte utlovas någon mat.</p><br><h2><a hr
	ef="https://hitract.se/hitevent/15745">Hitract Event</a></h2><br><p><em>Th
	is event was scraped automatically from Hitract. Want to manage your own e
	vents? <a href="mailto:adm@ludd.ltu.se">Contact us</a></em></p>
BEGIN:VALARM
ACTION:DISPLAY
DESCRIPTION:Lunch-talkshow med Anders Berg
TRIGGER:-PT1H
END:VALARM
END:VEVENT
END:VCALENDAR
