BEGIN:VCALENDAR
VERSION:2.0
CALSCALE:GREGORIAN
PRODID:adamgibbons/ics
METHOD:PUBLISH
X-PUBLISHED-TTL:PT1H
BEGIN:VEVENT
UID:2657@events.ludd.ltu.se
SUMMARY:Ettans kravall
DTSTAMP:20260422T031035Z
DTSTART:20260502T110000Z
DTEND:20260502T230000Z
URL:https://events.ludd.ltu.se/event/ettans-kravall
GEO:65.6183;22.1383
LOCATION:Luleå Tekniska Universitet - Haparandavägen\, Porsögården\, Porsön
	\, Luleå\, Luleå kommun\, Norrbottens län\, 971 87\, Sverige
STATUS:CONFIRMED
CATEGORIES:indek,🎉 fulsittning
END:VEVENT
BEGIN:VEVENT
UID:1267@events.ludd.ltu.se
SUMMARY:Datasektionen Sektionsmöte 4
DTSTAMP:20260422T031035Z
DTSTART:20260506T163000Z
DTEND:20260506T180000Z
URL:https://events.ludd.ltu.se/event/datasektionen-sektionsmote-4-1
GEO:65.6183;22.1383
LOCATION:Luleå Tekniska Universitet - Haparandavägen\, Porsögården\, Porsön
	\, Luleå\, Luleå kommun\, Norrbottens län\, 971 87\, Sverige
STATUS:CONFIRMED
CATEGORIES:🔨 tkl,🟡datasekt
END:VEVENT
BEGIN:VEVENT
UID:1591@events.ludd.ltu.se
SUMMARY:Re-examination period 4
DTSTAMP:20260422T031035Z
DTSTART:20260526T060000Z
DTEND:20260528T160000Z
URL:https://events.ludd.ltu.se/event/re-examination-period-4-1
GEO:65.6183;22.1383
LOCATION:Luleå Tekniska Universitet - Haparandavägen\, Porsögården\, Porsön
	\, Luleå\, Luleå kommun\, Norrbottens län\, 971 87\, Sverige
STATUS:CONFIRMED
CATEGORIES:📚 exam-period
END:VEVENT
BEGIN:VEVENT
UID:1593@events.ludd.ltu.se
SUMMARY:Examination period 4
DTSTAMP:20260422T031035Z
DTSTART:20260529T060000Z
DTEND:20260605T160000Z
URL:https://events.ludd.ltu.se/event/examination-period-4
GEO:65.6183;22.1383
LOCATION:Luleå Tekniska Universitet - Haparandavägen\, Porsögården\, Porsön
	\, Luleå\, Luleå kommun\, Norrbottens län\, 971 87\, Sverige
STATUS:CONFIRMED
CATEGORIES:📚 exam-period
END:VEVENT
END:VCALENDAR
