BEGIN:VCALENDAR
VERSION:2.0
CALSCALE:GREGORIAN
PRODID:adamgibbons/ics
METHOD:PUBLISH
X-PUBLISHED-TTL:PT1H
BEGIN:VEVENT
UID:2589@events.ludd.ltu.se
SUMMARY:Stand-up
DTSTAMP:20260421T110322Z
DTSTART:20260422T145500Z
DTEND:20260422T230000Z
URL:https://events.ludd.ltu.se/event/stand-up
GEO:65.6178;22.1437
LOCATION:STUK - 11\, Universitetsvägen\, Porsögården\, Porsön\, Luleå\, Lul
	eå kommun\, Norrbottens län\, 971 87\, Sverige
STATUS:CONFIRMED
CATEGORIES:🍻 stuk,🍻pub
END:VEVENT
BEGIN:VEVENT
UID:2661@events.ludd.ltu.se
SUMMARY:Valborg - Hanna Ferm
DTSTAMP:20260421T110322Z
DTSTART:20260430T214600Z
DTEND:20260501T030000Z
URL:https://events.ludd.ltu.se/event/valborg-hanna-ferm
GEO:65.6178;22.1437
LOCATION:STUK - 11\, Universitetsvägen\, Porsögården\, Porsön\, Luleå\, Lul
	eå kommun\, Norrbottens län\, 971 87\, Sverige
STATUS:CONFIRMED
CATEGORIES:🎤 concert,🍻 stuk
END:VEVENT
BEGIN:VEVENT
UID:2607@events.ludd.ltu.se
SUMMARY:Kårbanketten 2026
DTSTAMP:20260421T110322Z
DTSTART:20260502T180000Z
DTEND:20260502T223000Z
URL:https://events.ludd.ltu.se/event/karbanketten-2026
GEO:65.6178;22.1437
LOCATION:STUK - 11\, Universitetsvägen\, Porsögården\, Porsön\, Luleå\, Lul
	eå kommun\, Norrbottens län\, 971 87\, Sverige
STATUS:CONFIRMED
CATEGORIES:🥂 finsittning,🔨 tkl
END:VEVENT
BEGIN:VEVENT
UID:1651@events.ludd.ltu.se
SUMMARY:Pi Torsdagsservering
DTSTAMP:20260421T110322Z
DTSTART:20260507T150000Z
DTEND:20260507T163000Z
URL:https://events.ludd.ltu.se/event/pi-torsdagsservering-10
GEO:65.6178;22.1437
LOCATION:STUK - 11\, Universitetsvägen\, Porsögården\, Porsön\, Luleå\, Lul
	eå kommun\, Norrbottens län\, 971 87\, Sverige
STATUS:CONFIRMED
CATEGORIES:🫗 alcoholfree,🔨 tkl,🔴msekt,🥣pi
END:VEVENT
BEGIN:VEVENT
UID:1654@events.ludd.ltu.se
SUMMARY:Pi Torsdagsservering
DTSTAMP:20260421T110322Z
DTSTART:20260521T150000Z
DTEND:20260521T163000Z
URL:https://events.ludd.ltu.se/event/pi-torsdagsservering-11
GEO:65.6178;22.1437
LOCATION:STUK - 11\, Universitetsvägen\, Porsögården\, Porsön\, Luleå\, Lul
	eå kommun\, Norrbottens län\, 971 87\, Sverige
STATUS:CONFIRMED
CATEGORIES:🫗 alcoholfree,🔨 tkl,🔴msekt,🥣pi
END:VEVENT
BEGIN:VEVENT
UID:2653@events.ludd.ltu.se
SUMMARY:Islossningen 2026
DTSTAMP:20260421T110322Z
DTSTART:20260523T180000Z
DTEND:20260523T230000Z
URL:https://events.ludd.ltu.se/event/islossningen-2026
GEO:65.6178;22.1437
LOCATION:STUK - 11\, Universitetsvägen\, Porsögården\, Porsön\, Luleå\, Lul
	eå kommun\, Norrbottens län\, 971 87\, Sverige
STATUS:CONFIRMED
CATEGORIES:🥂 finsittning,🦉 ls
END:VEVENT
END:VCALENDAR
