BEGIN:VCALENDAR
VERSION:2.0
CALSCALE:GREGORIAN
PRODID:adamgibbons/ics
METHOD:PUBLISH
X-PUBLISHED-TTL:PT1H
BEGIN:VEVENT
UID:2450@events.ludd.ltu.se
SUMMARY:Luleå tekniska universitet på Luleå Pride
DTSTAMP:20260421T162335Z
DTSTART:20260821T080000Z
DTEND:20260822T200000Z
URL:https://events.ludd.ltu.se/event/lulea-tekniska-universitet-pa-lulea-pr
	ide
GEO:65.5831;22.146
LOCATION:Stadsparken - Rådhustorget\, Södra hamn\, Luleå\, Luleå kommun\, N
	orrbottens län\, 971 28\, Sverige
STATUS:CONFIRMED
CATEGORIES:nolleperioden,🫗 alcoholfree,🇱 ltu
END:VEVENT
END:VCALENDAR
