BEGIN:VCALENDAR
VERSION:2.0
CALSCALE:GREGORIAN
PRODID:adamgibbons/ics
METHOD:PUBLISH
X-PUBLISHED-TTL:PT1H
BEGIN:VEVENT
UID:2681@events.ludd.ltu.se
SUMMARY:Inriktningskväll 2026
DTSTAMP:20260424T120602Z
DTSTART:20260429T170000Z
DTEND:20260429T190000Z
URL:https://events.ludd.ltu.se/event/inriktningskvall-2026
GEO:65.6171;22.1371
LOCATION:A209 - Regnbågsallén\, Porsön\, Luleå\, Luleå kommun\, Norrbottens
	 län\, 976 32\, Sverige
STATUS:CONFIRMED
CATEGORIES:indek,🫗 alcoholfree
END:VEVENT
END:VCALENDAR
