BEGIN:VCALENDAR
VERSION:2.0
CALSCALE:GREGORIAN
PRODID:adamgibbons/ics
METHOD:PUBLISH
X-PUBLISHED-TTL:PT1H
BEGIN:VEVENT
UID:2657@events.ludd.ltu.se
SUMMARY:Ettans kravall
DTSTAMP:20260422T120054Z
DTSTART:20260502T110000Z
DTEND:20260502T230000Z
URL:https://events.ludd.ltu.se/event/ettans-kravall
GEO:65.6183;22.1383
LOCATION:Luleå Tekniska Universitet - Haparandavägen\, Porsögården\, Porsön
	\, Luleå\, Luleå kommun\, Norrbottens län\, 971 87\, Sverige
STATUS:CONFIRMED
CATEGORIES:indek,🎉 fulsittning
END:VEVENT
END:VCALENDAR
